BEGIN:VCALENDAR
VERSION:2.0
PRODID:-//Skills of Life - ECPv6.15.17.1//NONSGML v1.0//EN
CALSCALE:GREGORIAN
METHOD:PUBLISH
X-WR-CALNAME:Skills of Life
X-ORIGINAL-URL:https://skillsoflife.org
X-WR-CALDESC:Events for Skills of Life
REFRESH-INTERVAL;VALUE=DURATION:PT1H
X-Robots-Tag:noindex
X-PUBLISHED-TTL:PT1H
BEGIN:VTIMEZONE
TZID:America/Los_Angeles
BEGIN:DAYLIGHT
TZOFFSETFROM:-0800
TZOFFSETTO:-0700
TZNAME:PDT
DTSTART:20230312T100000
END:DAYLIGHT
BEGIN:STANDARD
TZOFFSETFROM:-0700
TZOFFSETTO:-0800
TZNAME:PST
DTSTART:20231105T090000
END:STANDARD
BEGIN:DAYLIGHT
TZOFFSETFROM:-0800
TZOFFSETTO:-0700
TZNAME:PDT
DTSTART:20240310T100000
END:DAYLIGHT
BEGIN:STANDARD
TZOFFSETFROM:-0700
TZOFFSETTO:-0800
TZNAME:PST
DTSTART:20241103T090000
END:STANDARD
BEGIN:DAYLIGHT
TZOFFSETFROM:-0800
TZOFFSETTO:-0700
TZNAME:PDT
DTSTART:20250309T100000
END:DAYLIGHT
BEGIN:STANDARD
TZOFFSETFROM:-0700
TZOFFSETTO:-0800
TZNAME:PST
DTSTART:20251102T090000
END:STANDARD
END:VTIMEZONE
BEGIN:VTIMEZONE
TZID:UTC
BEGIN:STANDARD
TZOFFSETFROM:+0000
TZOFFSETTO:+0000
TZNAME:UTC
DTSTART:20220101T000000
END:STANDARD
END:VTIMEZONE
BEGIN:VEVENT
DTSTART;TZID=America/Los_Angeles:20240316T180000
DTEND;TZID=America/Los_Angeles:20240316T210000
DTSTAMP:20260422T153513
CREATED:20240221T192826Z
LAST-MODIFIED:20240823T225117Z
UID:3042-1710612000-1710622800@skillsoflife.org
SUMMARY:Charitable Live Music Benefit at Pono Hawaiian Grill
DESCRIPTION:PLEASE JOIN US FOR A CHARITABLE  \nLIVE MUSIC BENEFIT! \nWe are thrilled to invite you! The fun of music meets the spirit of giving! Join us for an evening as we come together to make a positive impact on our community.  \nAll donated proceeds will go directly to Skills of Life Cafe and our Phase 2 fundraising campaign! Our concession trailer classroom is under construction and the final touches are needed to complete the process to our launch! \n\nPlease arrive anytime and consider a delicious Pono dinner plate \nReggae/Rock for your dancing feet: 7-9pm (Thank You Hijinx)!\n\nPAYPAL: \n https://www.paypal.com/us/fundraiser/charity/4555390       \nSQUARE:  \nhttps://square.link/u/UdhDgLzu?src=sheet
URL:https://skillsoflife.org/event/charitable-live-music-benefit-at-pono/
LOCATION:Pono Hawaiian Grill\, 120 Union St.\, Santa Cruz\, CA\, 95062
ATTACH;FMTTYPE=image/jpeg:https://skillsoflife.org/wp-content/uploads/2024/04/IMG_2954-e1724453399173.jpg
END:VEVENT
BEGIN:VEVENT
DTSTART;TZID=UTC:20231014T110000
DTEND;TZID=UTC:20231014T160000
DTSTAMP:20260422T153513
CREATED:20230918T212410Z
LAST-MODIFIED:20231120T184206Z
UID:87-1697281200-1697299200@skillsoflife.org
SUMMARY:Charity Cornhole Tournament
DESCRIPTION:Calling all Cornholers! \nWe are filling spots NOW at THIS beautiful venue in Capitola! \n🥇 $100 per team – We will provide lunch\, beer\, and fun prizes to the winners! Grab your friends!\n🥇 Your team entry fee to play goes directly to the fundraising efforts for Skills of Life Cafe!\n🥇 Register 3 ways: \n1. Text/call the number in the flyer\n2. Leave comment on our Facebook\n3. Scan provided Venmo QR code \nIt gets better ! On a separate note and unrelated to Skills of Life Cafe\, for those that are looking for a fun retreat\, all 11 rooms at this B&B are currently booked out\, BUT available to rent! I can connect you to the person to book your stay. \nCan’t wait to play with ya!
URL:https://skillsoflife.org/event/charity-cornhole-tournament/
LOCATION:Monarch Cove Inn\, 620 El Salto Dr.\, Capitola\, CA\, 95010\, United States
ATTACH;FMTTYPE=image/jpeg:https://skillsoflife.org/wp-content/uploads/2023/09/sol-charity-cornhole-tournament-oct14-2023.jpg
END:VEVENT
END:VCALENDAR