BEGIN:VCALENDAR
VERSION:2.0
PRODID:-//Skills of Life - ECPv6.15.17.1//NONSGML v1.0//EN
CALSCALE:GREGORIAN
METHOD:PUBLISH
X-ORIGINAL-URL:https://skillsoflife.org
X-WR-CALDESC:Events for Skills of Life
REFRESH-INTERVAL;VALUE=DURATION:PT1H
X-Robots-Tag:noindex
X-PUBLISHED-TTL:PT1H
BEGIN:VTIMEZONE
TZID:America/Los_Angeles
BEGIN:DAYLIGHT
TZOFFSETFROM:-0800
TZOFFSETTO:-0700
TZNAME:PDT
DTSTART:20230312T100000
END:DAYLIGHT
BEGIN:STANDARD
TZOFFSETFROM:-0700
TZOFFSETTO:-0800
TZNAME:PST
DTSTART:20231105T090000
END:STANDARD
BEGIN:DAYLIGHT
TZOFFSETFROM:-0800
TZOFFSETTO:-0700
TZNAME:PDT
DTSTART:20240310T100000
END:DAYLIGHT
BEGIN:STANDARD
TZOFFSETFROM:-0700
TZOFFSETTO:-0800
TZNAME:PST
DTSTART:20241103T090000
END:STANDARD
BEGIN:DAYLIGHT
TZOFFSETFROM:-0800
TZOFFSETTO:-0700
TZNAME:PDT
DTSTART:20250309T100000
END:DAYLIGHT
BEGIN:STANDARD
TZOFFSETFROM:-0700
TZOFFSETTO:-0800
TZNAME:PST
DTSTART:20251102T090000
END:STANDARD
END:VTIMEZONE
BEGIN:VEVENT
DTSTART;VALUE=DATE:20240615
DTEND;VALUE=DATE:20240616
DTSTAMP:20260422T033717
CREATED:20240426T002805Z
LAST-MODIFIED:20240823T234653Z
UID:3122-1718409600-1718495999@skillsoflife.org
SUMMARY:3rd Annual Golf Event at Seascape: Organized by SCFFL Foundation
DESCRIPTION:SCFFL Foundation is hosting their 3rd annual golf fundraising event\, and Skills of Life Cafe will be one of the nonprofits selected as a beneficiary! If you enjoy the game and friendly competition\, please join the fun. Their website has all the information about the day and a few easy clicks to get you and a partner\, or 4some to sign up!
URL:https://skillsoflife.org/event/3rd-annual-golf-event-at-seascape-organized-by-scffl-foundation/
LOCATION:Seascape
ATTACH;FMTTYPE=image/jpeg:https://skillsoflife.org/wp-content/uploads/2024/04/IMG_7721-e1724453158269.jpg
END:VEVENT
BEGIN:VEVENT
DTSTART;TZID=America/Los_Angeles:20240620T180000
DTEND;TZID=America/Los_Angeles:20240620T200000
DTSTAMP:20260422T033717
CREATED:20240613T000733Z
LAST-MODIFIED:20240823T224858Z
UID:3263-1718906400-1718913600@skillsoflife.org
SUMMARY:We are being represented by THE VILLAGE!
DESCRIPTION:The Village is a group of individuals that want to give back to their community. Skills of Life Cafe has been invited to participate in their June 20th event. We are one of three local nonprofits that have been filmed for this event\, and our visual story will be aired for the community to vote. Those with the most votes will receive a generous financial gift (wish us luck)… and even better…come cast your vote!!!  Woodhouse Brew is hosting. \nHope to see you there!
URL:https://skillsoflife.org/event/we-are-being-represented/
LOCATION:Woodhouse Brewing\, 119 Madrone St.\, Santa Cruz
ATTACH;FMTTYPE=image/jpeg:https://skillsoflife.org/wp-content/uploads/2024/06/Photo-3-e1724453108525.jpeg
END:VEVENT
END:VCALENDAR